BEGIN:VCALENDAR
VERSION:1.0
BEGIN:VEVENT
DTSTART:20220308T203000
DTEND:20220308T203001
SUMMARY:Συζήτηση – Εκδήλωση για την Παγκόσμια Ημέρα των Γυναικών
LOCATION:<p>Καραγιώργη Σερβίας 1, Αθήνα 105 63</p>
DESCRIPTION:
PRIORITY:3
END:VEVENT
END:VCALENDAR