BEGIN:VCALENDAR
VERSION:1.0
BEGIN:VEVENT
DTSTART:20230306T203000
DTEND:20230306T203001
SUMMARY:Ο Μάνος Καραγιάννης παρουσιάζει το βιβλίο του «Aποτροπή και άμυνα»
LOCATION:<p>Καραγιώργη Σερβίας 1, Αθήνα 105 63</p>
DESCRIPTION:
PRIORITY:3
END:VEVENT
END:VCALENDAR