BEGIN:VCALENDAR
VERSION:1.0
BEGIN:VEVENT
DTSTART:20240122T203000
DTEND:20240122T203001
SUMMARY:Ο Θάνος Βερέμης παρουσιάζει το βιβλίο του «20oς αιώνας»
LOCATION:<p>Καραγιώργη Σερβίας 1, Αθήνα 105 63</p>
DESCRIPTION:
PRIORITY:3
END:VEVENT
END:VCALENDAR