BEGIN:VCALENDAR
VERSION:1.0
BEGIN:VEVENT
DTSTART:20240124T203000
DTEND:20240124T203001
SUMMARY:Ο Άρης Σφακιανάκης παρουσιάζει το βιβλίο του «Ο Πρίγκιψ του δευτέρου ορόφου»
LOCATION:<p>Καραγιώργη Σερβίας 1, Αθήνα 105 63</p>
DESCRIPTION:
PRIORITY:3
END:VEVENT
END:VCALENDAR