BEGIN:VCALENDAR
VERSION:1.0
BEGIN:VEVENT
DTSTART:20240125T190000
DTEND:20240125T190001
SUMMARY:Παρουσίαση του βιβλίου «Το αλλού των λέξεων και άλλα ποιήματα» της Anise Koltz 
LOCATION:
DESCRIPTION:
PRIORITY:3
END:VEVENT
END:VCALENDAR