BEGIN:VCALENDAR
VERSION:1.0
BEGIN:VEVENT
DTSTART:20240129T203000
DTEND:20240129T203001
SUMMARY:Ο Ελευθέριος Ελευθεριάδης παρουσιάζει το νέο βιβλίο του «Μαζί» @Public Café Συντάγματος
LOCATION:<p>Καραγιώργη Σερβίας 1, Αθήνα 105 63</p>
DESCRIPTION:
PRIORITY:3
END:VEVENT
END:VCALENDAR