BEGIN:VCALENDAR
VERSION:1.0
BEGIN:VEVENT
DTSTART:20240123T190000
DTEND:20240123T190001
SUMMARY:Παρουσιάση του βιβλίου «Ο συντηρητισμός στην Ελλάδα»
LOCATION:
DESCRIPTION:
PRIORITY:3
END:VEVENT
END:VCALENDAR