BEGIN:VCALENDAR
VERSION:1.0
BEGIN:VEVENT
DTSTART:20241210T203000
DTEND:20241210T203001
SUMMARY:Παρουσίαση της αυτοβιογραφίας του Παναγιώτη Γιαννάκη «Τρωτός Άτρωτος»
LOCATION:<p>Καραγιώργη Σερβίας 1, Αθήνα 105 63</p>
DESCRIPTION:
PRIORITY:3
END:VEVENT
END:VCALENDAR