BEGIN:VCALENDAR
VERSION:1.0
BEGIN:VEVENT
DTSTART:20250217T190000
DTEND:20250217T190001
SUMMARY:Η Simone Davies παρουσιάζει τη σειρά βιβλίων της «Μοντεσσόρι στο σπίτι»
LOCATION:
DESCRIPTION:
PRIORITY:3
END:VEVENT
END:VCALENDAR