BEGIN:VCALENDAR
VERSION:1.0
BEGIN:VEVENT
DTSTART:20250326T203000
DTEND:20250326T203001
SUMMARY:Η Θέκλα Πετρίδου παρουσιάζει το νέο της βιβλίο «Θέλω να σου μιλήσω για τη ζωή, ψυχή μου»
LOCATION:<p>Καραγιώργη Σερβίας 1, Αθήνα 105 63</p>
DESCRIPTION:
PRIORITY:3
END:VEVENT
END:VCALENDAR