BEGIN:VCALENDAR
VERSION:1.0
BEGIN:VEVENT
DTSTART:20250512T190000
DTEND:20250512T190001
SUMMARY:Η Λένα Μαντά παρουσιάζει το νέο της βιβλίο «Κόκκινη γραμμή»
LOCATION:<p>Τσιμισκή 24, Θεσσαλονίκη 546 24</p>
DESCRIPTION:
PRIORITY:3
END:VEVENT
END:VCALENDAR