BEGIN:VCALENDAR
VERSION:1.0
BEGIN:VEVENT
DTSTART:20251208T190000
DTEND:20251208T190001
SUMMARY:Η Λένα Μαντά & η Κλαίρη Θεοδώρου παρουσιάζουν το νέο βιβλίο τους «Άδειο νυφικό»
LOCATION:<p>Τσιμισκή 24, Θεσσαλονίκη 546 24</p>
DESCRIPTION:
PRIORITY:3
END:VEVENT
END:VCALENDAR