BEGIN:VCALENDAR
VERSION:1.0
BEGIN:VEVENT
DTSTART:20260313T190000
DTEND:20260313T190001
SUMMARY:Η Μαρία Παπουτσή παρουσιάζει το νέο της βιβλίο «Αυτό το βιβλίο το έγραψα για σένα»
LOCATION:
DESCRIPTION:
PRIORITY:3
END:VEVENT
END:VCALENDAR