BEGIN:VCALENDAR
VERSION:1.0
BEGIN:VEVENT
DTSTART:20260311T203000
DTEND:20260311T203001
SUMMARY:Ο Αντώνης Τουμανίδης παρουσιάζει το νέο του βιβλίο «Άντερσεν»
LOCATION:<p>Καραγιώργη Σερβίας 1, Αθήνα 105 63</p>
DESCRIPTION:
PRIORITY:3
END:VEVENT
END:VCALENDAR