BEGIN:VCALENDAR
VERSION:1.0
BEGIN:VEVENT
DTSTART:20260330T203000
DTEND:20260330T203001
SUMMARY: Big Zag Live: Μια βαθιά βουτιά στις ανατροπές της εποχής μας
LOCATION:<p>Καραγιώργη Σερβίας 1, Αθήνα 105 63</p>
DESCRIPTION:
PRIORITY:3
END:VEVENT
END:VCALENDAR