BEGIN:VCALENDAR
VERSION:1.0
BEGIN:VEVENT
DTSTART:20260402T180000
DTEND:20260402T180001
SUMMARY:Η Άρια Παπανικολάου παρουσιάζει το βιβλίο της «Με λένε Άρια»
LOCATION:<p>Λεωφόρος Βουλιαγμένης 276, Αγ. Δημήτριος Αττικής, 173 43</p>
DESCRIPTION:
PRIORITY:3
END:VEVENT
END:VCALENDAR