BEGIN:VCALENDAR
VERSION:1.0
BEGIN:VEVENT
DTSTART:20260405T120000
DTEND:20260405T120001
SUMMARY:Play Days 2026: Πασχαλινές κατασκευές παρέα με την UHU @Public Smart Park!
LOCATION:<p>Εμπορικό πάρκο smart park, Spata 190 04</p>
DESCRIPTION:
PRIORITY:3
END:VEVENT
END:VCALENDAR