BEGIN:VCALENDAR
VERSION:1.0
BEGIN:VEVENT
DTSTART:20260405T160000
DTEND:20260405T160001
SUMMARY: Play Days 2026: Πασχαλινές κατασκευές παρέα με την UHU @Public Golden Hall!
LOCATION:<p>Λεωφ. Κηφισίας 37Α, Μαρούσι, 151 22</p>
DESCRIPTION:
PRIORITY:3
END:VEVENT
END:VCALENDAR