BEGIN:VCALENDAR
VERSION:1.0
BEGIN:VEVENT
DTSTART:20260403T173000
DTEND:20260403T173001
SUMMARY:Play Days 2026: Πασχαλινά εργαστήρια με τα πλαστοζυμαράκια @Public Αλεξανδρούπολης!
LOCATION:<p>Leof. Dimokratias 210, Alexandroupoli 681 00</p>
DESCRIPTION:
PRIORITY:3
END:VEVENT
END:VCALENDAR