BEGIN:VCALENDAR
VERSION:1.0
BEGIN:VEVENT
DTSTART:20260403T173000
DTEND:20260403T173001
SUMMARY:Play Days 2026: Πασχαλινά εργαστήρια με τα πλαστοζυμαράκια @Public + home Κέρκυρας!
LOCATION:<p>Εθνική Οδός Παλαιοκαστρίτσας 89, Κέρκυρα, Τ.Κ: 49100</p>
DESCRIPTION:
PRIORITY:3
END:VEVENT
END:VCALENDAR