BEGIN:VCALENDAR
VERSION:1.0
BEGIN:VEVENT
DTSTART:20260404T120000
DTEND:20260404T120001
SUMMARY:Η Μαρίνα Φασάκη παρουσιάζει το νέο της βιβλίο «Ο καθρέφτης»
LOCATION:<p>Λεωφ. Κηφισίας 37Α, Μαρούσι, 151 22</p>
DESCRIPTION:
PRIORITY:3
END:VEVENT
END:VCALENDAR