BEGIN:VCALENDAR
VERSION:1.0
BEGIN:VEVENT
DTSTART:20260404T120000
DTEND:20260404T120001
SUMMARY:Play Days 2026: Πασχαλινά εργαστήρια με τα πλαστοζυμαράκια @Public Τσιμισκή!
LOCATION:<p>Τσιμισκή 24, Θεσσαλονίκη 546 24</p>
DESCRIPTION:
PRIORITY:3
END:VEVENT
END:VCALENDAR