BEGIN:VCALENDAR
VERSION:1.0
BEGIN:VEVENT
DTSTART:20260404T120000
DTEND:20260404T120001
SUMMARY:Play Days 2026: Πασχαλινά εργαστήρια με τα πλαστοζυμαράκια @Public + home Πατήσια!
LOCATION:<p>Πατησίων 324, Αθήνα 111 41</p>
DESCRIPTION:
PRIORITY:3
END:VEVENT
END:VCALENDAR