BEGIN:VCALENDAR
VERSION:1.0
BEGIN:VEVENT
DTSTART:20260404T170000
DTEND:20260404T170001
SUMMARY:Play Days 2026: Πασχαλινές κατασκευές παρέα με την UHU @Public Συντάγματος!
LOCATION:
DESCRIPTION:
PRIORITY:3
END:VEVENT
END:VCALENDAR