BEGIN:VCALENDAR
VERSION:1.0
BEGIN:VEVENT
DTSTART:20260403T170000
DTEND:20260403T170001
SUMMARY:Play Days 2026: Εργαστήριο ζωγραφικής HappiHobbi @ Public Τσιμισκή
LOCATION:<p>Τσιμισκή 24, Θεσσαλονίκη 546 24</p>
DESCRIPTION:
PRIORITY:3
END:VEVENT
END:VCALENDAR