BEGIN:VCALENDAR
VERSION:1.0
BEGIN:VEVENT
DTSTART:20260403T170000
DTEND:20260403T170001
SUMMARY:Play Days 2026: Εργαστήριο ζωγραφικής HappiHobbi @ Public Συντάγματος
LOCATION:
DESCRIPTION:
PRIORITY:3
END:VEVENT
END:VCALENDAR