BEGIN:VCALENDAR
VERSION:1.0
BEGIN:VEVENT
DTSTART:20260404T160000
DTEND:20260404T160001
SUMMARY:Play Days 2026: Εργαστήριο ζωγραφικής HappiHobbi @ Public The Mall Athens
LOCATION:<p>Ανδρέα Παπανδρέου 35, Μαρούσι, 151 22</p>
DESCRIPTION:
PRIORITY:3
END:VEVENT
END:VCALENDAR