BEGIN:VCALENDAR
VERSION:1.0
BEGIN:VEVENT
DTSTART:20260404T120000
DTEND:20260404T120001
SUMMARY:Play Days 2026: Διαδραστική εκδήλωση εμπνευσμένη από παιδικά βιβλία @ Public +home Κέρκυρας
LOCATION:<p>Εθνική Οδός Παλαιοκαστρίτσας 89, Κέρκυρα, Τ.Κ: 49100</p>
DESCRIPTION:
PRIORITY:3
END:VEVENT
END:VCALENDAR