BEGIN:VCALENDAR
VERSION:1.0
BEGIN:VEVENT
DTSTART:20260405T120000
DTEND:20260405T120001
SUMMARY:Play Days 2026: Διαδραστική εκδήλωση εμπνευσμένη από παιδικά βιβλία @ Public Golden Hall
LOCATION:<p>Λεωφ. Κηφισίας 37Α, Μαρούσι, 151 22</p>
DESCRIPTION:
PRIORITY:3
END:VEVENT
END:VCALENDAR