BEGIN:VCALENDAR
VERSION:1.0
BEGIN:VEVENT
DTSTART:20260403T180000
DTEND:20260403T180001
SUMMARY:Play Days 2026: Διαδραστική εκδήλωση εμπνευσμένη από παιδικά βιβλία @ Public The Mall Athens
LOCATION:<p>Ανδρέα Παπανδρέου 35, Μαρούσι, 151 22</p>
DESCRIPTION:
PRIORITY:3
END:VEVENT
END:VCALENDAR