BEGIN:VCALENDAR
VERSION:1.0
BEGIN:VEVENT
DTSTART:20260427T203000
DTEND:20260427T203001
SUMMARY:Ο Πάνος Δημάκης παρουσιάζει το νέο του βιβλίο «Ο ήλιος στα μάτια των λιονταριών»
LOCATION:<p>Καραγιώργη Σερβίας 1, Αθήνα 105 63</p>
DESCRIPTION:
PRIORITY:3
END:VEVENT
END:VCALENDAR