BEGIN:VCALENDAR
VERSION:1.0
BEGIN:VEVENT
DTSTART:20260428T190000
DTEND:20260428T190001
SUMMARY:Η Ελευθερία Μάρη-Σταμουλακάτου παρουσιάζει το νέο της παιδικό βιβλίο «Ο μάγκας με το φλάουτο»
LOCATION:
DESCRIPTION:
PRIORITY:3
END:VEVENT
END:VCALENDAR