BEGIN:VCALENDAR
VERSION:1.0
BEGIN:VEVENT
DTSTART:20260505T203000
DTEND:20260505T203001
SUMMARY:Ο Τάσος Σακελλαρόπουλος παρουσιάζει το νέο του βιβλίο «Απόρρητα έγγραφα της ΚΥΠ για το Κυπριακό»
LOCATION:<p>Καραγιώργη Σερβίας 1, Αθήνα 105 63</p>
DESCRIPTION:
PRIORITY:3
END:VEVENT
END:VCALENDAR