BEGIN:VCALENDAR
VERSION:1.0
BEGIN:VEVENT
DTSTART:20260512T203000
DTEND:20260512T203001
SUMMARY:Ο Τάσος Τέλλογλου παρουσιάζει το νέο του βιβλίο «Πατριδογνωσία»
LOCATION:<p>Καραγιώργη Σερβίας 1, Αθήνα 105 63</p>
DESCRIPTION:
PRIORITY:3
END:VEVENT
END:VCALENDAR