BEGIN:VCALENDAR
VERSION:1.0
BEGIN:VEVENT
DTSTART:20260514T203000
DTEND:20260514T203001
SUMMARY:Η Λένα Μαντά παρουσιάζει το νέο του βιβλίο «Ελένη Δαρζέντα»
LOCATION:<p>Καραγιώργη Σερβίας 1, Αθήνα 105 63</p>
DESCRIPTION:
PRIORITY:3
END:VEVENT
END:VCALENDAR