BEGIN:VCALENDAR
VERSION:1.0
BEGIN:VEVENT
DTSTART:20260518T190000
DTEND:20260518T190001
SUMMARY:Η Λένα Μαντά παρουσιάζει το νέο του βιβλίο «Ελένη Δαρζέντα» @Public Τσιμισκή
LOCATION:<p>Τσιμισκή 24, Θεσσαλονίκη 546 24</p>
DESCRIPTION:
PRIORITY:3
END:VEVENT
END:VCALENDAR