BEGIN:VCALENDAR
VERSION:1.0
BEGIN:VEVENT
DTSTART:20260521T190000
DTEND:20260521T190001
SUMMARY:Ο Κώστας Κρομμύδας παρουσιάζει το νέο του βιβλίο «Το λιμάνι μου είσαι εσύ» @Public Σερρών
LOCATION:<p>Τσαλοπούλου 9, Σέρρες 621 22</p>
DESCRIPTION:
PRIORITY:3
END:VEVENT
END:VCALENDAR