BEGIN:VCALENDAR
VERSION:1.0
BEGIN:VEVENT
DTSTART:20260522T190000
DTEND:20260522T190001
SUMMARY:Η Μυρτώ Σταυροπούλου παρουσιάζει το νέο της βιβλίο «Στα νύχια άμμος»
LOCATION:
DESCRIPTION:
PRIORITY:3
END:VEVENT
END:VCALENDAR