BEGIN:VCALENDAR
VERSION:1.0
BEGIN:VEVENT
DTSTART:20191002T210000
DTEND:20191002T210001
SUMMARY:Ο Διονύσης Σιμόπουλος έρχεται @ Public Café Συντάγματος
LOCATION:<p>Καραγιώργη Σερβίας 1, Αθήνα 105 63</p>
DESCRIPTION:
PRIORITY:3
END:VEVENT
END:VCALENDAR