BEGIN:VCALENDAR
VERSION:1.0
BEGIN:VEVENT
DTSTART:20191003T210000
DTEND:20191003T210001
SUMMARY:«Μαγειρεύω εποχές» από τη Mama Tsita @ Public Café Συντάγματος
LOCATION:<p>Καραγιώργη Σερβίας 1, Αθήνα 105 63</p>
DESCRIPTION:
PRIORITY:3
END:VEVENT
END:VCALENDAR