BEGIN:VCALENDAR
VERSION:1.0
BEGIN:VEVENT
DTSTART:20191011T180000
DTEND:20191011T180001
SUMMARY:Γονείς στα θρανία/ Η σημασία των ορίων στα παιδιά @ Public Συντάγματος
LOCATION:
DESCRIPTION:
PRIORITY:3
END:VEVENT
END:VCALENDAR