BEGIN:VCALENDAR
VERSION:1.0
BEGIN:VEVENT
DTSTART:20191019T000000
DTEND:20191019T000001
SUMMARY:«H διατροφή του παιδιού, για καλύτερες σχολικές επιδόσεις» @ Public Συντάγματος
LOCATION:
DESCRIPTION:
PRIORITY:3
END:VEVENT
END:VCALENDAR