BEGIN:VCALENDAR
VERSION:1.0
BEGIN:VEVENT
DTSTART:20191218T210000
DTEND:20191218T210001
SUMMARY:"21 υπέροχοι Έλληνες μιλούν για την Αθήνα" στο Public Συντάγματος
LOCATION:
DESCRIPTION:
PRIORITY:3
END:VEVENT
END:VCALENDAR