BEGIN:VCALENDAR
VERSION:1.0
BEGIN:VEVENT
DTSTART:20191213T180000
DTEND:20191213T180001
SUMMARY:Οι ήρωες της ταινίας Playmobil έρχονται στο Public Metro Mall!
LOCATION:<p>Λεωφόρος Βουλιαγμένης 276, Αγ. Δημήτριος Αττικής, 173 43</p>
DESCRIPTION:
PRIORITY:3
END:VEVENT
END:VCALENDAR