BEGIN:VCALENDAR
VERSION:1.0
BEGIN:VEVENT
DTSTART:20191214T120000
DTEND:20191214T120001
SUMMARY:Οι ήρωες της ταινίας Playmobil έρχονται στο Public The Mall Athens
LOCATION:<p>Ανδρέα Παπανδρέου 35, Μαρούσι, 151 22</p>
DESCRIPTION:
PRIORITY:3
END:VEVENT
END:VCALENDAR