BEGIN:VCALENDAR
VERSION:1.0
BEGIN:VEVENT
DTSTART:20191219T180000
DTEND:20191219T180001
SUMMARY:O Ατρόμητος παίζει FIFA 20 στα Public Περιστερίου
LOCATION:<p>Εθ. Αντιστάσεως 27, Περιστέρι, 121 34</p>
DESCRIPTION:
PRIORITY:3
END:VEVENT
END:VCALENDAR