BEGIN:VCALENDAR
VERSION:1.0
BEGIN:VEVENT
DTSTART:20200312T180000
DTEND:20200312T180001
SUMMARY:Public Book Society: 12 Μαρτίου η δεύτερη συνάντηση!
LOCATION:
DESCRIPTION:
PRIORITY:3
END:VEVENT
END:VCALENDAR