BEGIN:VCALENDAR
VERSION:1.0
BEGIN:VEVENT
DTSTART:20200328T120000
DTEND:20200328T120001
SUMMARY:«Το παιδί με ΔΕΠΥ στο σχολείο και στο σπίτι» @ Public Συντάγματος
LOCATION:
DESCRIPTION:
PRIORITY:3
END:VEVENT
END:VCALENDAR