BEGIN:VCALENDAR
VERSION:1.0
BEGIN:VEVENT
DTSTART:20200310T200000
DTEND:20200310T200001
SUMMARY:«Γυναίκες συγγραφείς για τη βία: λόγος δημόσιος και ιδιωτικός» @ Public Συντάγματος
LOCATION:<p>Καραγιώργη Σερβίας 1, Αθήνα 105 63</p>
DESCRIPTION:
PRIORITY:3
END:VEVENT
END:VCALENDAR