BEGIN:VCALENDAR
VERSION:1.0
BEGIN:VEVENT
DTSTART:20200618T200000
DTEND:20200618T200001
SUMMARY:"ΛΕΑ στο σπίτι": Ο Κολομβιανός συγγραφέας Χουάν Γκαμπριέλ Βάσκες μιλά για το βιβλίο του «Τραγούδια για την πυρκαγιά»
LOCATION:
DESCRIPTION:
PRIORITY:3
END:VEVENT
END:VCALENDAR